BEGIN:VCALENDAR
VERSION:2.0
PRODID:-//Gardenia E. Janssen Animal Shelter - ECPv6.15.13//NONSGML v1.0//EN
CALSCALE:GREGORIAN
METHOD:PUBLISH
X-WR-CALNAME:Gardenia E. Janssen Animal Shelter
X-ORIGINAL-URL:https://janssenanimalshelter.org
X-WR-CALDESC:Events for Gardenia E. Janssen Animal Shelter
REFRESH-INTERVAL;VALUE=DURATION:PT1H
X-Robots-Tag:noindex
X-PUBLISHED-TTL:PT1H
BEGIN:VTIMEZONE
TZID:UTC
BEGIN:STANDARD
TZOFFSETFROM:+0000
TZOFFSETTO:+0000
TZNAME:UTC
DTSTART:20220101T000000
END:STANDARD
END:VTIMEZONE
BEGIN:VTIMEZONE
TZID:America/Chicago
BEGIN:DAYLIGHT
TZOFFSETFROM:-0600
TZOFFSETTO:-0500
TZNAME:CDT
DTSTART:20220313T080000
END:DAYLIGHT
BEGIN:STANDARD
TZOFFSETFROM:-0500
TZOFFSETTO:-0600
TZNAME:CST
DTSTART:20221106T070000
END:STANDARD
BEGIN:DAYLIGHT
TZOFFSETFROM:-0600
TZOFFSETTO:-0500
TZNAME:CDT
DTSTART:20230312T080000
END:DAYLIGHT
BEGIN:STANDARD
TZOFFSETFROM:-0500
TZOFFSETTO:-0600
TZNAME:CST
DTSTART:20231105T070000
END:STANDARD
BEGIN:DAYLIGHT
TZOFFSETFROM:-0600
TZOFFSETTO:-0500
TZNAME:CDT
DTSTART:20240310T080000
END:DAYLIGHT
BEGIN:STANDARD
TZOFFSETFROM:-0500
TZOFFSETTO:-0600
TZNAME:CST
DTSTART:20241103T070000
END:STANDARD
BEGIN:DAYLIGHT
TZOFFSETFROM:-0600
TZOFFSETTO:-0500
TZNAME:CDT
DTSTART:20250309T080000
END:DAYLIGHT
BEGIN:STANDARD
TZOFFSETFROM:-0500
TZOFFSETTO:-0600
TZNAME:CST
DTSTART:20251102T070000
END:STANDARD
END:VTIMEZONE
BEGIN:VEVENT
DTSTART;TZID=UTC:20250920T180000
DTEND;TZID=UTC:20250920T220000
DTSTAMP:20260423T135837
CREATED:20250712T191957Z
LAST-MODIFIED:20250712T200956Z
UID:971-1758391200-1758405600@janssenanimalshelter.org
SUMMARY:Happy Tails 2025
DESCRIPTION:\
URL:https://janssenanimalshelter.org/event/happy-tails-2025/
LOCATION:KC Hall Schulenberg\, 405 South Street\, Schulenburg\, TX\, 78956\, United States
END:VEVENT
BEGIN:VEVENT
DTSTART;TZID=UTC:20250517T180000
DTEND;TZID=UTC:20250517T220000
DTSTAMP:20260423T135837
CREATED:20250308T231542Z
LAST-MODIFIED:20250406T183427Z
UID:950-1747504800-1747519200@janssenanimalshelter.org
SUMMARY:Vanity Fur Fashion Show
DESCRIPTION:
URL:https://janssenanimalshelter.org/event/vanity-fur-fashion-show/
LOCATION:Carmine Hall\, 300 N. Hauptstrasse Street\, Round Top\, TX\, 78954\, United States
END:VEVENT
BEGIN:VEVENT
DTSTART;TZID=UTC:20250328T200000
DTEND;TZID=UTC:20250329T000000
DTSTAMP:20260423T135837
CREATED:20250308T231208Z
LAST-MODIFIED:20250308T231208Z
UID:943-1743192000-1743206400@janssenanimalshelter.org
SUMMARY:Ellis Motel Cosmic Honky Tonk
DESCRIPTION:
URL:https://janssenanimalshelter.org/event/ellis-motel-cosmic-honky-tonk/
LOCATION:Ellis Motel\, 185 Henkel Circle\, Round Top\, TX\, 78954\, United States
END:VEVENT
BEGIN:VEVENT
DTSTART;TZID=America/Chicago:20241102T100000
DTEND;TZID=America/Chicago:20241102T180000
DTSTAMP:20260423T135837
CREATED:20240923T162259Z
LAST-MODIFIED:20240923T162410Z
UID:903-1730541600-1730570400@janssenanimalshelter.org
SUMMARY:1st Annual Gardenia Janssen Animal Shelter Car Show
DESCRIPTION:First Annual Gardenia Janssen Animal Shelter Car Show \nGet Car Registration Tickets Here -Entry fee for car show (one registration per vehicle) \nNov 2 \n10-6 \nLocation TBD
URL:https://janssenanimalshelter.org/event/1st-annual-gardenia-janssen-animal-shelter-car-show/
END:VEVENT
BEGIN:VEVENT
DTSTART;TZID=UTC:20240928T180000
DTEND;TZID=UTC:20240928T220000
DTSTAMP:20260423T135837
CREATED:20240409T153046Z
LAST-MODIFIED:20240912T190312Z
UID:865-1727546400-1727560800@janssenanimalshelter.org
SUMMARY:Happy Tails 3rd Annual Fundraiser
DESCRIPTION:BUY TICKETS! \nSat Sept 28th \n6-10pm \nKC Hall Schulenberg \nDinner & Dancin’ – Silent & Live Auction FUNDRAISER! \nEntertainment by Texas Unlimited Band
URL:https://janssenanimalshelter.org/event/happy-tails-3rd-annual-fundraiser/
LOCATION:KC Hall Schulenberg\, 405 South Street\, Schulenburg\, TX\, 78956\, United States
END:VEVENT
BEGIN:VEVENT
DTSTART;TZID=UTC:20240615T080000
DTEND;TZID=UTC:20240615T170000
DTSTAMP:20260423T135837
CREATED:20240409T152732Z
LAST-MODIFIED:20240409T152732Z
UID:862-1718438400-1718470800@janssenanimalshelter.org
SUMMARY:Volunteer Orientation/Meeting
DESCRIPTION:Volunteer Orientation/Meeting
URL:https://janssenanimalshelter.org/event/volunteer-orientation-meeting/
LOCATION:Janssen Animal Shelter\, 240 Svoboda Lane La Grange\, Texas 78945\, La Grange\, TX\, 78945
END:VEVENT
BEGIN:VEVENT
DTSTART;TZID=UTC:20240601T080000
DTEND;TZID=UTC:20240601T170000
DTSTAMP:20260423T135837
CREATED:20240409T152339Z
LAST-MODIFIED:20240409T152610Z
UID:858-1717228800-1717261200@janssenanimalshelter.org
SUMMARY:Event at The Texas Quilt Museum
DESCRIPTION:Event at The Texas Quilt Museum                          6/1/24
URL:https://janssenanimalshelter.org/event/event-at-the-texas-quilt-museum/
LOCATION:Texas Quilt Museum\, 140 W Colorado Street\, La Grange\, TX\, 78945
END:VEVENT
BEGIN:VEVENT
DTSTART;TZID=America/Chicago:20240504T110000
DTEND;TZID=America/Chicago:20240504T140000
DTSTAMP:20260423T135837
CREATED:20230203T170958Z
LAST-MODIFIED:20240304T190628Z
UID:669-1714820400-1714831200@janssenanimalshelter.org
SUMMARY:Off To The Races Gala Benefit
DESCRIPTION:BUY TICKETS!\nSupporting Janssen Animal Shelter\nSaturday\, May 4th\, 2024 — 11:00 AM – 2:00 PM\nLocation: Market Hill 2\, 1542 N Highway 237\, Round Top\, TX 78954\nFeaturing “Ginger Leigh and Straight UP”\, a dynamic jazz ensemble from Austin\n\n\nMarket Hill’s beautiful new Venue will set the stage for this year’s fundraiser and brunch – Off to the Races!!! A Derby Day Brunch inspired by Duo Market Hill along with live music\, Live and Silent auction\, Hat contest\, Winning horse raffle\, Derby Day cocktails\, Whiskey Wall\, Golden Ticket Jewelry raffle and more!!!! All of this will help us fund the care and lives of animals that “you” will help save in the future. Together we can raise record-breaking funds for an incredibly worthy cause. \n\n\n 
URL:https://janssenanimalshelter.org/event/off-to-the-races-gala-benefit/
LOCATION:Market Hill 2\, 1542 N Highway 237\, Round Top\, TX\, 78954\, United States
END:VEVENT
BEGIN:VEVENT
DTSTART;TZID=America/Chicago:20240427T080000
DTEND;TZID=America/Chicago:20240427T170000
DTSTAMP:20260423T135837
CREATED:20240409T152213Z
LAST-MODIFIED:20240409T152243Z
UID:855-1714204800-1714237200@janssenanimalshelter.org
SUMMARY:Adoption Event/Bake Sale @ the shelter
DESCRIPTION:Our POPULAR BAKE SALE & ADOPTION EVENT at the Shelter – Join us! \n 
URL:https://janssenanimalshelter.org/event/adoption-event-bake-sale-the-shelter/
LOCATION:Janssen Animal Shelter\, 240 Svoboda Lane La Grange\, Texas 78945\, La Grange\, TX\, 78945
END:VEVENT
BEGIN:VEVENT
DTSTART;TZID=America/Chicago:20230415T100000
DTEND;TZID=America/Chicago:20230415T100000
DTSTAMP:20260423T135837
CREATED:20230203T170735Z
LAST-MODIFIED:20240304T185527Z
UID:667-1681552800-1681552800@janssenanimalshelter.org
SUMMARY:Pet! Pets! Pets! Adoption Event
DESCRIPTION:The Rotary Club of Flatonia is partnering with Gardenia E. Janssen Animal Shelter\, serving Fayette County\, to bring dogs to you for adoption. There will be opportunities to visit with dogs of all sizes\, shapes\, and colors. You will be able to pet them\, hold them\, talk to them\, in a fun\, roundtable forum designed to get future owners and pets acquainted. \nGJAS takes in\, on average\, 1\,400 dogs and cats annually and they work tirelessly to enrich the lives of those in their care\, until they can find a new loving\, forever home. After you decide on your new pet\, he or she can be picked up on Sunday the 26th\, 3-5pm\, at the Animal Shelter in LaGrange. 240 Svoboda Lane\, La Grange. \nOn Sunday you will be asked to fill out your adoption papers\, pay a $75 fee\, which includes a microchip\, and receive a free bag of pet food. \nTo learn more about Flatonia Rotary’s service to the Flatonia community please visit Flatonia Rotary \n  \n 
URL:https://janssenanimalshelter.org/event/pet-pets-pets-adoption-event/
LOCATION:Main Street Downtown Flatonia\, Flatonia\, TX\, 78941\, United States
END:VEVENT
BEGIN:VEVENT
DTSTART;TZID=America/Chicago:20230309T183000
DTEND;TZID=America/Chicago:20230309T210000
DTSTAMP:20260423T135837
CREATED:20230214T165652Z
LAST-MODIFIED:20240304T185527Z
UID:683-1678386600-1678395600@janssenanimalshelter.org
SUMMARY:Happy Tails Movie Night at the Lyric
DESCRIPTION:Tonights movie: GREASE – Olivia Newton John & John Travolta\nGrab some friends and come on out for a FUN night at the movies while supporting the animal shelter!\nAdults only \nThe Lyric Theater is a beautiful historic theater located in downtown Flatonia.\nThere will be BRICK FIRED PIZZA & ice cream from BIG TIME PIZZA\, WINE donated by RED VAULT BISTRO\, BEER donated by FRANK & CONNIE REICHERT\, POPCORN & SODA provided by The Lyric while you enjoy the movie!\nCome dressed to play the part and enter the Costume Contest!\nWinner receives a Movie Night for 4 including 4 tickets\, 1 pizza\, popcorn and a drink courtesy of The Lyric Theater. \nCLICK TO PURCHASE TICKETS HERE or at the shelter – by phone 979-966-0021 or in person. Limited seating.
URL:https://janssenanimalshelter.org/event/happy-tails-movie-night-at-the-lyric/
LOCATION:The Lyric Theater\, 120 E South Main Street\, Flatonia\, 78941\, United States
END:VEVENT
BEGIN:VEVENT
DTSTART;TZID=UTC:20230225T110000
DTEND;TZID=UTC:20230225T130000
DTSTAMP:20260423T135837
CREATED:20230214T171315Z
LAST-MODIFIED:20240304T185529Z
UID:689-1677322800-1677330000@janssenanimalshelter.org
SUMMARY:Open House at the Shelter
DESCRIPTION:We are partnering with Turtle Wing Foundation and And Then a New Day organization to host an open house for their clients.  This is a wonderful opportunity to work together in strengthening our community.  Volunteers are available to show multiple small groups around the shelter and explain what we do and the volunteer opportunities.  \nNote: Please let me know if you can help with this event.
URL:https://janssenanimalshelter.org/event/open-house-at-the-shelter/
LOCATION:Janssen Animal Shelter\, 240 Svoboda Lane La Grange\, Texas 78945\, La Grange\, TX\, 78945
END:VEVENT
END:VCALENDAR