BEGIN:VCALENDAR
VERSION:2.0
PRODID:-//Gardenia E. Janssen Animal Shelter - ECPv6.15.13//NONSGML v1.0//EN
CALSCALE:GREGORIAN
METHOD:PUBLISH
X-WR-CALNAME:Gardenia E. Janssen Animal Shelter
X-ORIGINAL-URL:https://janssenanimalshelter.org
X-WR-CALDESC:Events for Gardenia E. Janssen Animal Shelter
REFRESH-INTERVAL;VALUE=DURATION:PT1H
X-Robots-Tag:noindex
X-PUBLISHED-TTL:PT1H
BEGIN:VTIMEZONE
TZID:UTC
BEGIN:STANDARD
TZOFFSETFROM:+0000
TZOFFSETTO:+0000
TZNAME:UTC
DTSTART:20250101T000000
END:STANDARD
END:VTIMEZONE
BEGIN:VEVENT
DTSTART;TZID=UTC:20260516T180000
DTEND;TZID=UTC:20260516T220000
DTSTAMP:20260423T103353
CREATED:20260414T205408Z
LAST-MODIFIED:20260414T205408Z
UID:983-1778954400-1778968800@janssenanimalshelter.org
SUMMARY:Vanity Fur Mutt Gala
DESCRIPTION:Benefiting the Gardenia E. Janssen Animal Shelter\nSaturday\, May 16th\, 2026 — 6:00 PM to 10:00 PM\nLocation: Round Top Rifle Hall\n710 FM 1457\, Round Top\, TX 78954\n\n\nThe Vanity Fur “Mutt Gala” & Fashion Extravaganza is here! \nWhere the catwalk has paws\, personalities\, and absolutely no understanding of choreography. \nWatch locals and their canine companions strut their stuff in style. Savor “The Taste of Round Top”\, a curated lineup of local restaurant favorites — along with drinks\, auctions\, and a whole lot of laughter\, all benefiting our local shelter and those entrusted to their care. \nAs our largest fundraiser of the year\, this event fuels the daily care\, safety\, and second chances provided to every dog and cat who walks through the door. Your presence directly helps save and change lives. \nCome for the fashion. Stay for the cause. Leave knowing you helped keep this mission to save lives moving forward.
URL:https://janssenanimalshelter.org/event/vanity-fur-mutt-gala/
LOCATION:Round Top Rifle Hall\, 710 FM 1457\, Round Top\, 78954\, United States
END:VEVENT
END:VCALENDAR